BEGIN:VCALENDAR
VERSION:2.0
PRODID:-//wp-events-plugin.com//7.2.3.1//EN
BEGIN:VEVENT
UID:1@anandamargaoceania.org
DTSTART;TZID=Australia/Melbourne:20240808T183000
DTEND;TZID=Australia/Melbourne:20240912T200000
DTSTAMP:20240808T114431Z
URL:https://anandamargaoceania.org/events/six-week-meditation-yoga-course/
SUMMARY:Six week Meditation Yoga Course
DESCRIPTION:&nbsp\;\n\nWelcome to join our 6-week Meditation class\, you wi
 ll:\n\n-Experience inner peace and joy\n-Reduce anxiety and stress\n-Incre
 ase effectiveness\n-Find purpose and meaning\nEmbark on your journey of pe
 rsonal transformation.\n\nInstructor: Dada\nLocation: 63 Woolton Ave\, Tho
 rnbury VIC 3071\nTime: 6:30pm to 8:00pm\nDate: Thursdays--weekly from 8th 
 Aug to 12th Sep\nFees:$100 (Pay after introductory class)\nRegistration:\n
 Contact person: Shivanii 0456530454
END:VEVENT
BEGIN:VTIMEZONE
TZID:Australia/Melbourne
X-LIC-LOCATION:Australia/Melbourne
BEGIN:STANDARD
DTSTART:20240407T020000
TZOFFSETFROM:+1100
TZOFFSETTO:+1000
TZNAME:AEST
END:STANDARD
END:VTIMEZONE
END:VCALENDAR